BEGIN:VCALENDAR
VERSION:2.0
PRODID:-//Augusta Aesthetics - ECPv6.15.5//NONSGML v1.0//EN
CALSCALE:GREGORIAN
METHOD:PUBLISH
X-WR-CALNAME:Augusta Aesthetics
X-ORIGINAL-URL:https://www.augustaaesthetic.com
X-WR-CALDESC:Events for Augusta Aesthetics
REFRESH-INTERVAL;VALUE=DURATION:PT1H
X-Robots-Tag:noindex
X-PUBLISHED-TTL:PT1H
BEGIN:VTIMEZONE
TZID:UTC
BEGIN:STANDARD
TZOFFSETFROM:+0000
TZOFFSETTO:+0000
TZNAME:UTC
DTSTART:20240101T000000
END:STANDARD
END:VTIMEZONE
BEGIN:VEVENT
DTSTART;TZID=UTC:20241015T100000
DTEND;TZID=UTC:20241016T190000
DTSTAMP:20260421T121139
CREATED:20240913T212512Z
LAST-MODIFIED:20240913T213159Z
UID:3962-1728986400-1729105200@www.augustaaesthetic.com
SUMMARY:Augusta's 'Falling For Aesthetics' Event! October 15th - 16th
DESCRIPTION:Join us in-office for Augusta’s Falling for Aesthetics Event!\nWe’re inviting patients\, friends\, family\, and the community to stop into Augusta Aesthetics Medical Spa on October 15th & 16th for our special Fall Event! The ‘Falling for Aesthetics’ event will showcase our favorite fall treatments and services\, introduce you to the newest updates in the aesthetic industry\, and give you a chance to book with Erin before she goes on maternity leave! \nAny patient who makes an appointment on these days will be entered into our special ‘Falling for Aesthetics’ giveaways! Don’t miss it! Details below! \nJoin us October 15th & 16th for…\n\n???? Fall Skincare Recommendations  – Read our Latest Blog\n???? Allē Enhancements & Payment Plan Introductions\n???? Refreshments & Apps\n???? Holiday skin prep\, starting now!\n???? Giveaways!\n???????? Appointments with Erin before she heads out on maternity  leave!\n\nSchedule an appointment ahead of time for easy reservations. Call/text us at 513-914-6062 to schedule. Walk-ins welcome! ✨   \n  \nContact Us\nLet us know you’re interested in joining: \n\nGo back  Your message has been sent\n\n\n				\n					\n					\n				\n			\n\n\n\nName(required)\n\n \n			\n				\n					\n						\n						\n						\n					\n					Warning\n				\n				\n			 \n	\n\n\nEmail(required)\n\n \n			\n				\n					\n						\n						\n						\n					\n					Warning\n				\n				\n			 \n	\n\n\nWebsite\n\n \n			\n				\n					\n						\n						\n						\n					\n					Warning\n				\n				\n			 \n	\n\n\nMessage\n\n \n			\n				\n					\n						\n						\n						\n					\n					Warning\n				\n				\n			\n	\n	\nWarning.\n				\n				\n				\n					\n				\n						Submit		\n		\n		\n	 \nΔ \n\n 
URL:https://www.augustaaesthetic.com/event/join-augusta-for-our-falling-for-aesthetics-event-october-15th-16th/
CATEGORIES:Cincinnati Events
END:VEVENT
BEGIN:VEVENT
DTSTART;TZID=UTC:20240210T180000
DTEND;TZID=UTC:20240210T210000
DTSTAMP:20260421T121140
CREATED:20240104T220110Z
LAST-MODIFIED:20240104T222046Z
UID:3683-1707588000-1707598800@www.augustaaesthetic.com
SUMMARY:February 10th\, 2024: Discounted Cincinnati Botox & FREE B-12 @ the Galentine
DESCRIPTION:Join us for TSG’s annual ‘Galentine’s Day’ Event! Augusta Aesthetics is offering FREE Vitamin B-12 Shots\, and Special Pricing on Botox (For One Night Only!). \nWhere: The Galentine \nWhen: February 10th\, 2024 \nTime: 6:00pm to 9:00pm \nWe’re Offering: FREE Vitamin B-12 and Special Savings on Botox \nRSVP: Coming Soon… \nCincinnati & Northern Kentucky \n \nDon’t Miss It! Contact Us For Details!\n\nGo back  Your message has been sent\n\n\n				\n					\n					\n				\n			\n\n\n\nName(required)\n\n \n			\n				\n					\n						\n						\n						\n					\n					Warning\n				\n				\n			 \n	\n\n\nEmail(required)\n\n \n			\n				\n					\n						\n						\n						\n					\n					Warning\n				\n				\n			 \n	\n\n\nWebsite\n\n \n			\n				\n					\n						\n						\n						\n					\n					Warning\n				\n				\n			 \n	\n\n\nMessage\n\n \n			\n				\n					\n						\n						\n						\n					\n					Warning\n				\n				\n			\n	\n	\nWarning.\n				\n				\n				\n					\n				\n						Submit		\n		\n		\n	 \nΔ \n\n 
URL:https://www.augustaaesthetic.com/event/february-10th-2024-augusta-aesthetics-at-the-galentine/
CATEGORIES:Cincinnati Events
END:VEVENT
BEGIN:VEVENT
DTSTART;TZID=UTC:20240128T100000
DTEND;TZID=UTC:20240128T113000
DTSTAMP:20260421T121140
CREATED:20240104T214640Z
LAST-MODIFIED:20240108T160729Z
UID:3680-1706436000-1706441400@www.augustaaesthetic.com
SUMMARY:Jan. 28th: TSG's Burn. Dance. Brunch (& Botox) Event @BurnBootcamp!
DESCRIPTION:Join us on January 28th\, 2024 for The Scout Guide Cincinnati’s 6th annual Burn. Dance. Brunch event! Located at BurnBootCamp\, Augusta Aesthetics will be there offering FREE B-12 Shots and One Day Only discounted Botox. \nWhere: Burn Boot Camp \nWhen: January 28th\, 2024 \nTime: 10:00am – 11:30am \nRegistration link: https://www.eventbrite.com/e/burn-dance-brunch-tickets-790092145877?aff=oddtdtcreator \nMore information posted to: Burn Boot Camp Hyde Park Instagram \nLimited spots available. Registration link opening soon! For more information on this event\, follow Burn Boot Camp Cincinnati on Instagram\, or check out their website: https://burnbootcamp.com/locations/ft-mitchell-ky/?gad_source=1&gclid=Cj0KCQiAy9msBhD0ARIsANbk0A-94FQHsvPadjUwIDknEhsBL_8NxxuW68c9jre3AH-EZzwOm-Kiz0AaAqZcEALw_wcB \n \nContact Us to Reserve Your Spot:\n\nGo back  Your message has been sent\n\n\n				\n					\n					\n				\n			\n\n\n\nName(required)\n\n \n			\n				\n					\n						\n						\n						\n					\n					Warning\n				\n				\n			 \n	\n\n\nEmail(required)\n\n \n			\n				\n					\n						\n						\n						\n					\n					Warning\n				\n				\n			 \n	\n\n\nWebsite\n\n \n			\n				\n					\n						\n						\n						\n					\n					Warning\n				\n				\n			 \n	\n\n\nMessage\n\n \n			\n				\n					\n						\n						\n						\n					\n					Warning\n				\n				\n			\n	\n	\nWarning.\n				\n				\n				\n					\n				\n						Submit		\n		\n		\n	 \nΔ
URL:https://www.augustaaesthetic.com/event/jan-28th-free-b-12-shots-and-discounted-botox/
CATEGORIES:Cincinnati Events
ATTACH;FMTTYPE=image/jpeg:https://www.augustaaesthetic.com/wp-content/uploads/2024/01/unnamed.jpg
END:VEVENT
BEGIN:VEVENT
DTSTART;TZID=UTC:20240113T130000
DTEND;TZID=UTC:20240113T150000
DTSTAMP:20260421T121140
CREATED:20240104T220622Z
LAST-MODIFIED:20240104T221933Z
UID:3684-1705150800-1705158000@www.augustaaesthetic.com
SUMMARY:AESTHETIC GIVEAWAYS: Jan. 13th\, 2024 @ the Rhinegeist Cincinnati
DESCRIPTION:Hop on over to the Rhinegeist Cincinnati on January 13th\, 2024 for FREE B-12 Shots and incredible Augusta Aesthetics giveaways. Discover Cincinnati vendors and explore Augusta Aesthetics Cincinnati’s treatment menu\, with the chance to win. \nWhere: Rhinegeist Cincinnati \nWhen: January 13th \nTime: 1:00pm to 3:00pm \nGiveaway details to be announced soon. For more information\, visit the Rhinegeist Cincinnati’s website: https://rhinegeist.com/events/taproom/
URL:https://www.augustaaesthetic.com/event/aesthetic-giveaways-01-13-2024-at-the-rhinegeist-cincinnati/
CATEGORIES:Cincinnati Events
END:VEVENT
BEGIN:VEVENT
DTSTART;VALUE=DATE:20240113
DTEND;VALUE=DATE:20240114
DTSTAMP:20260421T121140
CREATED:20240104T221625Z
LAST-MODIFIED:20240104T221655Z
UID:3685-1705104000-1705190399@www.augustaaesthetic.com
SUMMARY:AESTHETIC GIVEAWAYS: Jan. 13th\, 2024 @ Dance Factory Fitness' Grand Opening
DESCRIPTION:Augusta Aesthetics is giving away a FREE Diamond Glow Facial and some incredible items to go with this package at the Dance Factory Fitness Grand Opening party. \nWhere: Dance Factory Fitness Cincinnati \nWhen: January 13th\, 2024 \nMore Information: Follow Dance Factory Fitness on Instagram https://www.instagram.com/dancefactoryfitness/ \nLooking to Join\, Contact Us for Details:\n\nGo back  Your message has been sent\n\n\n				\n					\n					\n				\n			\n\n\n\nName(required)\n\n \n			\n				\n					\n						\n						\n						\n					\n					Warning\n				\n				\n			 \n	\n\n\nEmail(required)\n\n \n			\n				\n					\n						\n						\n						\n					\n					Warning\n				\n				\n			 \n	\n\n\nWebsite\n\n \n			\n				\n					\n						\n						\n						\n					\n					Warning\n				\n				\n			 \n	\n\n\nMessage\n\n \n			\n				\n					\n						\n						\n						\n					\n					Warning\n				\n				\n			\n	\n	\nWarning.\n				\n				\n				\n					\n				\n						Submit		\n		\n		\n	 \nΔ
URL:https://www.augustaaesthetic.com/event/aesthetic-giveaways-jan-13th-2024-dance-factory-fitness-grand-opening/
CATEGORIES:Cincinnati Events
END:VEVENT
END:VCALENDAR